BEGIN:VCALENDAR
VERSION:2.0
PRODID:-//Filatelistenvereniging De Gelderse Vallei - ECPv6.15.20//NONSGML v1.0//EN
CALSCALE:GREGORIAN
METHOD:PUBLISH
X-ORIGINAL-URL:https://fv-degeldersevallei.nl
X-WR-CALDESC:Evenementen voor Filatelistenvereniging De Gelderse Vallei
REFRESH-INTERVAL;VALUE=DURATION:PT1H
X-Robots-Tag:noindex
X-PUBLISHED-TTL:PT1H
BEGIN:VTIMEZONE
TZID:Europe/Amsterdam
BEGIN:DAYLIGHT
TZOFFSETFROM:+0100
TZOFFSETTO:+0200
TZNAME:CEST
DTSTART:20250330T010000
END:DAYLIGHT
BEGIN:STANDARD
TZOFFSETFROM:+0200
TZOFFSETTO:+0100
TZNAME:CET
DTSTART:20251026T010000
END:STANDARD
BEGIN:DAYLIGHT
TZOFFSETFROM:+0100
TZOFFSETTO:+0200
TZNAME:CEST
DTSTART:20260329T010000
END:DAYLIGHT
BEGIN:STANDARD
TZOFFSETFROM:+0200
TZOFFSETTO:+0100
TZNAME:CET
DTSTART:20261025T010000
END:STANDARD
BEGIN:DAYLIGHT
TZOFFSETFROM:+0100
TZOFFSETTO:+0200
TZNAME:CEST
DTSTART:20270328T010000
END:DAYLIGHT
BEGIN:STANDARD
TZOFFSETFROM:+0200
TZOFFSETTO:+0100
TZNAME:CET
DTSTART:20271031T010000
END:STANDARD
END:VTIMEZONE
BEGIN:VEVENT
DTSTART;TZID=Europe/Amsterdam:20260602T193000
DTEND;TZID=Europe/Amsterdam:20260602T223000
DTSTAMP:20260423T005143
CREATED:20260318T153524Z
LAST-MODIFIED:20260318T153524Z
UID:11439-1780428600-1780439400@fv-degeldersevallei.nl
SUMMARY:Clubavond
DESCRIPTION:Voor de komende maanden staan de volgende “Voor Elk Wat Wils” activiteiten op de agenda. \nNieuwsgierig naar deze mooie hobby kom gerust vrijblijvend binnen tijdens 1 van onze bijeenkomsten. Toegang is vrijblijvend en kost u niets. \nEnthousiast geworden geef je dan op als lid. Kijk hier voor meer informatie. \nAanvang 19:30 uur. \n \n 
URL:https://fv-degeldersevallei.nl/evenement/clubavond/
LOCATION:Het Kernhuis\, Parkrand 60\, Ede\, Gelderland\, 6714 GN\, Netherlands
CATEGORIES:Clubavond
ATTACH;FMTTYPE=image/jpeg:https://fv-degeldersevallei.nl/wp-content/uploads/2024/02/cropped-cropped-IMG_1799.jpeg
ORGANIZER;CN="fv de Gelderse Vallei":MAILTO:fila@fv-degeldersevallei.nl
END:VEVENT
END:VCALENDAR